BEGIN:VCALENDAR
VERSION:2.0
PRODID:-//Impuls - HDG Trier - ECPv6.15.20//NONSGML v1.0//EN
CALSCALE:GREGORIAN
METHOD:PUBLISH
X-ORIGINAL-URL:https://impuls.hdg-trier.de
X-WR-CALDESC:Veranstaltungen für Impuls - HDG Trier
REFRESH-INTERVAL;VALUE=DURATION:PT1H
X-Robots-Tag:noindex
X-PUBLISHED-TTL:PT1H
BEGIN:VTIMEZONE
TZID:Europe/Berlin
BEGIN:DAYLIGHT
TZOFFSETFROM:+0100
TZOFFSETTO:+0200
TZNAME:CEST
DTSTART:20210328T010000
END:DAYLIGHT
BEGIN:STANDARD
TZOFFSETFROM:+0200
TZOFFSETTO:+0100
TZNAME:CET
DTSTART:20211031T010000
END:STANDARD
BEGIN:DAYLIGHT
TZOFFSETFROM:+0100
TZOFFSETTO:+0200
TZNAME:CEST
DTSTART:20220327T010000
END:DAYLIGHT
BEGIN:STANDARD
TZOFFSETFROM:+0200
TZOFFSETTO:+0100
TZNAME:CET
DTSTART:20221030T010000
END:STANDARD
BEGIN:DAYLIGHT
TZOFFSETFROM:+0100
TZOFFSETTO:+0200
TZNAME:CEST
DTSTART:20230326T010000
END:DAYLIGHT
BEGIN:STANDARD
TZOFFSETFROM:+0200
TZOFFSETTO:+0100
TZNAME:CET
DTSTART:20231029T010000
END:STANDARD
END:VTIMEZONE
BEGIN:VEVENT
DTSTART;TZID=Europe/Berlin:20221227T100000
DTEND;TZID=Europe/Berlin:20221227T110000
DTSTAMP:20260424T081327
CREATED:20220919T131936Z
LAST-MODIFIED:20221216T093545Z
UID:10007007-1672135200-1672138800@impuls.hdg-trier.de
SUMMARY:Yoga - Die innere Ruhe finden - Koordinierungsstelle Gesundheitliche Chancengleichheit RLP
DESCRIPTION:Sie sind momentan erwerbslos und möchten etwas für Ihre Gesundheit tun?\nDas Projekt in Rheinland-Pfalz zur „Verzahnung von Arbeits- und Gesundheitsförderung in der kommunalen Lebenswelt“ der gesetzlichen Krankenkassen unter Einbindung der Agenturen für Arbeit und der Jobcenter ermöglicht auch von Zuhause aus den Zugang zu kostenlosen Kursen. Ernährung\, Bewegung\, Entspannung und vieles mehr wird von gut geschulten Kursleitungen angeboten.\nSchauen Sie doch mal rein\, ganz ohne Anmeldung und kostenlos.\nAlle kostenlosen Kursangebote finden Sie auch unter www.agfrlp.de\nEinfach zur angegebenen Kurszeit diesen Link anklicken und mitmachen: https://us04web.zoom.us/j/665388307 \nYoga – Die innere Ruhe finden\, dienstags von 10:00-11:00 Uhr\nSie wollten Yoga schon immer einmal ausprobieren? Dann nutzen Sie unser Angebot und erfahren Sie mehr über diese Form der Entspannung.\nLeicht auszuführende Übungen zur Regeneration\, Stressbewältigung und Entspannung warten auf Sie.\nMehr als ein Handtuch (oder eine Yogamatte) braucht es nicht und los geht’s.
URL:https://impuls.hdg-trier.de/termin/yoga-die-innere-ruhe-finden-koordinierungsstelle-gesundheitliche-chancengleichheit-rlp/2022-12-27/
LOCATION:online
CATEGORIES:2. Externe Angebote
END:VEVENT
BEGIN:VEVENT
DTSTART;TZID=Europe/Berlin:20221220T100000
DTEND;TZID=Europe/Berlin:20221220T110000
DTSTAMP:20260424T081327
CREATED:20220919T132457Z
LAST-MODIFIED:20221216T093718Z
UID:10007003-1671530400-1671534000@impuls.hdg-trier.de
SUMMARY:QiGong für den Rücken - Koordinierungsstelle Gesundheitliche Chancengleichheit RLP
DESCRIPTION:Sie sind momentan erwerbslos und möchten etwas für Ihre Gesundheit tun?\nDas Projekt in Rheinland-Pfalz zur „Verzahnung von Arbeits- und Gesundheitsförderung in der kommunalen Lebenswelt“ der gesetzlichen Krankenkassen unter Einbindung der Agenturen für Arbeit und der Jobcenter ermöglicht auch von Zuhause aus den Zugang zu kostenlosen Kursen. Ernährung\, Bewegung\, Entspannung und vieles mehr wird von gut geschulten Kursleitungen angeboten.\nSchauen Sie doch mal rein\, ganz ohne Anmeldung und kostenlos.\nAlle kostenlosen Kursangebote finden Sie auch unter www.agfrlp.de\nEinfach zur angegebenen Kurszeit diesen Link anklicken und mitmachen: https://us04web.zoom.us/j/665388307 \nQiGong für den Rücken\, donnerstags von 10:00-11:00 Uhr\nQigong ist ein jahrtausendealtes System von Körper und Atemübungen und eine der Säulen der Traditionellen Chinesischen Medizin. Übersetzt bedeutet Qigong: Mit der Lebensenergie üben.\nLernen Sie verschiedene Übungen aus dem Qigong kennen\, die Sie auch einfach zu Hause oder unterwegs üben können. Durch die Verbindung unseres Atems mit innerer und äußerer Bewegung gelingt es uns leichter\, uns entspannt zu bewegen und bewegt zu Entspannen\, was auch unserem Rücken guttut.
URL:https://impuls.hdg-trier.de/termin/qigong-fuer-den-ruecken-koordinierungsstelle-gesundheitliche-chancengleichheit-rlp/2022-12-20/
LOCATION:online
CATEGORIES:2. Externe Angebote
END:VEVENT
BEGIN:VEVENT
DTSTART;TZID=Europe/Berlin:20221220T100000
DTEND;TZID=Europe/Berlin:20221220T110000
DTSTAMP:20260424T081327
CREATED:20220919T131936Z
LAST-MODIFIED:20221216T093545Z
UID:10007006-1671530400-1671534000@impuls.hdg-trier.de
SUMMARY:Yoga - Die innere Ruhe finden - Koordinierungsstelle Gesundheitliche Chancengleichheit RLP
DESCRIPTION:Sie sind momentan erwerbslos und möchten etwas für Ihre Gesundheit tun?\nDas Projekt in Rheinland-Pfalz zur „Verzahnung von Arbeits- und Gesundheitsförderung in der kommunalen Lebenswelt“ der gesetzlichen Krankenkassen unter Einbindung der Agenturen für Arbeit und der Jobcenter ermöglicht auch von Zuhause aus den Zugang zu kostenlosen Kursen. Ernährung\, Bewegung\, Entspannung und vieles mehr wird von gut geschulten Kursleitungen angeboten.\nSchauen Sie doch mal rein\, ganz ohne Anmeldung und kostenlos.\nAlle kostenlosen Kursangebote finden Sie auch unter www.agfrlp.de\nEinfach zur angegebenen Kurszeit diesen Link anklicken und mitmachen: https://us04web.zoom.us/j/665388307 \nYoga – Die innere Ruhe finden\, dienstags von 10:00-11:00 Uhr\nSie wollten Yoga schon immer einmal ausprobieren? Dann nutzen Sie unser Angebot und erfahren Sie mehr über diese Form der Entspannung.\nLeicht auszuführende Übungen zur Regeneration\, Stressbewältigung und Entspannung warten auf Sie.\nMehr als ein Handtuch (oder eine Yogamatte) braucht es nicht und los geht’s.
URL:https://impuls.hdg-trier.de/termin/yoga-die-innere-ruhe-finden-koordinierungsstelle-gesundheitliche-chancengleichheit-rlp/2022-12-20/
LOCATION:online
CATEGORIES:2. Externe Angebote
END:VEVENT
BEGIN:VEVENT
DTSTART;TZID=Europe/Berlin:20221213T100000
DTEND;TZID=Europe/Berlin:20221213T110000
DTSTAMP:20260424T081327
CREATED:20220919T132457Z
LAST-MODIFIED:20221216T093718Z
UID:10007002-1670925600-1670929200@impuls.hdg-trier.de
SUMMARY:QiGong für den Rücken - Koordinierungsstelle Gesundheitliche Chancengleichheit RLP
DESCRIPTION:Sie sind momentan erwerbslos und möchten etwas für Ihre Gesundheit tun?\nDas Projekt in Rheinland-Pfalz zur „Verzahnung von Arbeits- und Gesundheitsförderung in der kommunalen Lebenswelt“ der gesetzlichen Krankenkassen unter Einbindung der Agenturen für Arbeit und der Jobcenter ermöglicht auch von Zuhause aus den Zugang zu kostenlosen Kursen. Ernährung\, Bewegung\, Entspannung und vieles mehr wird von gut geschulten Kursleitungen angeboten.\nSchauen Sie doch mal rein\, ganz ohne Anmeldung und kostenlos.\nAlle kostenlosen Kursangebote finden Sie auch unter www.agfrlp.de\nEinfach zur angegebenen Kurszeit diesen Link anklicken und mitmachen: https://us04web.zoom.us/j/665388307 \nQiGong für den Rücken\, donnerstags von 10:00-11:00 Uhr\nQigong ist ein jahrtausendealtes System von Körper und Atemübungen und eine der Säulen der Traditionellen Chinesischen Medizin. Übersetzt bedeutet Qigong: Mit der Lebensenergie üben.\nLernen Sie verschiedene Übungen aus dem Qigong kennen\, die Sie auch einfach zu Hause oder unterwegs üben können. Durch die Verbindung unseres Atems mit innerer und äußerer Bewegung gelingt es uns leichter\, uns entspannt zu bewegen und bewegt zu Entspannen\, was auch unserem Rücken guttut.
URL:https://impuls.hdg-trier.de/termin/qigong-fuer-den-ruecken-koordinierungsstelle-gesundheitliche-chancengleichheit-rlp/2022-12-13/
LOCATION:online
CATEGORIES:2. Externe Angebote
END:VEVENT
BEGIN:VEVENT
DTSTART;TZID=Europe/Berlin:20221213T100000
DTEND;TZID=Europe/Berlin:20221213T110000
DTSTAMP:20260424T081327
CREATED:20220919T131936Z
LAST-MODIFIED:20221216T093545Z
UID:10007005-1670925600-1670929200@impuls.hdg-trier.de
SUMMARY:Yoga - Die innere Ruhe finden - Koordinierungsstelle Gesundheitliche Chancengleichheit RLP
DESCRIPTION:Sie sind momentan erwerbslos und möchten etwas für Ihre Gesundheit tun?\nDas Projekt in Rheinland-Pfalz zur „Verzahnung von Arbeits- und Gesundheitsförderung in der kommunalen Lebenswelt“ der gesetzlichen Krankenkassen unter Einbindung der Agenturen für Arbeit und der Jobcenter ermöglicht auch von Zuhause aus den Zugang zu kostenlosen Kursen. Ernährung\, Bewegung\, Entspannung und vieles mehr wird von gut geschulten Kursleitungen angeboten.\nSchauen Sie doch mal rein\, ganz ohne Anmeldung und kostenlos.\nAlle kostenlosen Kursangebote finden Sie auch unter www.agfrlp.de\nEinfach zur angegebenen Kurszeit diesen Link anklicken und mitmachen: https://us04web.zoom.us/j/665388307 \nYoga – Die innere Ruhe finden\, dienstags von 10:00-11:00 Uhr\nSie wollten Yoga schon immer einmal ausprobieren? Dann nutzen Sie unser Angebot und erfahren Sie mehr über diese Form der Entspannung.\nLeicht auszuführende Übungen zur Regeneration\, Stressbewältigung und Entspannung warten auf Sie.\nMehr als ein Handtuch (oder eine Yogamatte) braucht es nicht und los geht’s.
URL:https://impuls.hdg-trier.de/termin/yoga-die-innere-ruhe-finden-koordinierungsstelle-gesundheitliche-chancengleichheit-rlp/2022-12-13/
LOCATION:online
CATEGORIES:2. Externe Angebote
END:VEVENT
BEGIN:VEVENT
DTSTART;TZID=Europe/Berlin:20221206T100000
DTEND;TZID=Europe/Berlin:20221206T110000
DTSTAMP:20260424T081327
CREATED:20220919T132457Z
LAST-MODIFIED:20221216T093718Z
UID:10007001-1670320800-1670324400@impuls.hdg-trier.de
SUMMARY:QiGong für den Rücken - Koordinierungsstelle Gesundheitliche Chancengleichheit RLP
DESCRIPTION:Sie sind momentan erwerbslos und möchten etwas für Ihre Gesundheit tun?\nDas Projekt in Rheinland-Pfalz zur „Verzahnung von Arbeits- und Gesundheitsförderung in der kommunalen Lebenswelt“ der gesetzlichen Krankenkassen unter Einbindung der Agenturen für Arbeit und der Jobcenter ermöglicht auch von Zuhause aus den Zugang zu kostenlosen Kursen. Ernährung\, Bewegung\, Entspannung und vieles mehr wird von gut geschulten Kursleitungen angeboten.\nSchauen Sie doch mal rein\, ganz ohne Anmeldung und kostenlos.\nAlle kostenlosen Kursangebote finden Sie auch unter www.agfrlp.de\nEinfach zur angegebenen Kurszeit diesen Link anklicken und mitmachen: https://us04web.zoom.us/j/665388307 \nQiGong für den Rücken\, donnerstags von 10:00-11:00 Uhr\nQigong ist ein jahrtausendealtes System von Körper und Atemübungen und eine der Säulen der Traditionellen Chinesischen Medizin. Übersetzt bedeutet Qigong: Mit der Lebensenergie üben.\nLernen Sie verschiedene Übungen aus dem Qigong kennen\, die Sie auch einfach zu Hause oder unterwegs üben können. Durch die Verbindung unseres Atems mit innerer und äußerer Bewegung gelingt es uns leichter\, uns entspannt zu bewegen und bewegt zu Entspannen\, was auch unserem Rücken guttut.
URL:https://impuls.hdg-trier.de/termin/qigong-fuer-den-ruecken-koordinierungsstelle-gesundheitliche-chancengleichheit-rlp/2022-12-06/
LOCATION:online
CATEGORIES:2. Externe Angebote
END:VEVENT
BEGIN:VEVENT
DTSTART;TZID=Europe/Berlin:20221206T100000
DTEND;TZID=Europe/Berlin:20221206T110000
DTSTAMP:20260424T081327
CREATED:20220919T131936Z
LAST-MODIFIED:20221216T093545Z
UID:10007004-1670320800-1670324400@impuls.hdg-trier.de
SUMMARY:Yoga - Die innere Ruhe finden - Koordinierungsstelle Gesundheitliche Chancengleichheit RLP
DESCRIPTION:Sie sind momentan erwerbslos und möchten etwas für Ihre Gesundheit tun?\nDas Projekt in Rheinland-Pfalz zur „Verzahnung von Arbeits- und Gesundheitsförderung in der kommunalen Lebenswelt“ der gesetzlichen Krankenkassen unter Einbindung der Agenturen für Arbeit und der Jobcenter ermöglicht auch von Zuhause aus den Zugang zu kostenlosen Kursen. Ernährung\, Bewegung\, Entspannung und vieles mehr wird von gut geschulten Kursleitungen angeboten.\nSchauen Sie doch mal rein\, ganz ohne Anmeldung und kostenlos.\nAlle kostenlosen Kursangebote finden Sie auch unter www.agfrlp.de\nEinfach zur angegebenen Kurszeit diesen Link anklicken und mitmachen: https://us04web.zoom.us/j/665388307 \nYoga – Die innere Ruhe finden\, dienstags von 10:00-11:00 Uhr\nSie wollten Yoga schon immer einmal ausprobieren? Dann nutzen Sie unser Angebot und erfahren Sie mehr über diese Form der Entspannung.\nLeicht auszuführende Übungen zur Regeneration\, Stressbewältigung und Entspannung warten auf Sie.\nMehr als ein Handtuch (oder eine Yogamatte) braucht es nicht und los geht’s.
URL:https://impuls.hdg-trier.de/termin/yoga-die-innere-ruhe-finden-koordinierungsstelle-gesundheitliche-chancengleichheit-rlp/2022-12-06/
LOCATION:online
CATEGORIES:2. Externe Angebote
END:VEVENT
BEGIN:VEVENT
DTSTART;TZID=Europe/Berlin:20221201T100000
DTEND;TZID=Europe/Berlin:20221201T110000
DTSTAMP:20260424T081327
CREATED:20220919T132457Z
LAST-MODIFIED:20221216T093718Z
UID:10007000-1669888800-1669892400@impuls.hdg-trier.de
SUMMARY:QiGong für den Rücken - Koordinierungsstelle Gesundheitliche Chancengleichheit RLP
DESCRIPTION:Sie sind momentan erwerbslos und möchten etwas für Ihre Gesundheit tun?\nDas Projekt in Rheinland-Pfalz zur „Verzahnung von Arbeits- und Gesundheitsförderung in der kommunalen Lebenswelt“ der gesetzlichen Krankenkassen unter Einbindung der Agenturen für Arbeit und der Jobcenter ermöglicht auch von Zuhause aus den Zugang zu kostenlosen Kursen. Ernährung\, Bewegung\, Entspannung und vieles mehr wird von gut geschulten Kursleitungen angeboten.\nSchauen Sie doch mal rein\, ganz ohne Anmeldung und kostenlos.\nAlle kostenlosen Kursangebote finden Sie auch unter www.agfrlp.de\nEinfach zur angegebenen Kurszeit diesen Link anklicken und mitmachen: https://us04web.zoom.us/j/665388307 \nQiGong für den Rücken\, donnerstags von 10:00-11:00 Uhr\nQigong ist ein jahrtausendealtes System von Körper und Atemübungen und eine der Säulen der Traditionellen Chinesischen Medizin. Übersetzt bedeutet Qigong: Mit der Lebensenergie üben.\nLernen Sie verschiedene Übungen aus dem Qigong kennen\, die Sie auch einfach zu Hause oder unterwegs üben können. Durch die Verbindung unseres Atems mit innerer und äußerer Bewegung gelingt es uns leichter\, uns entspannt zu bewegen und bewegt zu Entspannen\, was auch unserem Rücken guttut.
URL:https://impuls.hdg-trier.de/termin/qigong-fuer-den-ruecken-koordinierungsstelle-gesundheitliche-chancengleichheit-rlp/2022-12-01/
LOCATION:online
CATEGORIES:2. Externe Angebote
END:VEVENT
END:VCALENDAR